BEGIN:VCALENDAR
VERSION:2.0
PRODID:-//Haapamäen Museoveturiyhdistys ry - ECPv6.15.20//NONSGML v1.0//EN
CALSCALE:GREGORIAN
METHOD:PUBLISH
X-ORIGINAL-URL:https://haapamaenmuseoveturiyhdistys.fi
X-WR-CALDESC:Tapahtumat Haapamäen Museoveturiyhdistys ry
REFRESH-INTERVAL;VALUE=DURATION:PT1H
X-Robots-Tag:noindex
X-PUBLISHED-TTL:PT1H
BEGIN:VTIMEZONE
TZID:Europe/Helsinki
BEGIN:DAYLIGHT
TZOFFSETFROM:+0200
TZOFFSETTO:+0300
TZNAME:EEST
DTSTART:20240331T010000
END:DAYLIGHT
BEGIN:STANDARD
TZOFFSETFROM:+0300
TZOFFSETTO:+0200
TZNAME:EET
DTSTART:20241027T010000
END:STANDARD
BEGIN:DAYLIGHT
TZOFFSETFROM:+0200
TZOFFSETTO:+0300
TZNAME:EEST
DTSTART:20250330T010000
END:DAYLIGHT
BEGIN:STANDARD
TZOFFSETFROM:+0300
TZOFFSETTO:+0200
TZNAME:EET
DTSTART:20251026T010000
END:STANDARD
BEGIN:DAYLIGHT
TZOFFSETFROM:+0200
TZOFFSETTO:+0300
TZNAME:EEST
DTSTART:20260329T010000
END:DAYLIGHT
BEGIN:STANDARD
TZOFFSETFROM:+0300
TZOFFSETTO:+0200
TZNAME:EET
DTSTART:20261025T010000
END:STANDARD
END:VTIMEZONE
BEGIN:VEVENT
DTSTART;TZID=Europe/Helsinki:20250404T120000
DTEND;TZID=Europe/Helsinki:20250406T170000
DTSTAMP:20260419T190408
CREATED:20250330T062020Z
LAST-MODIFIED:20250330T155351Z
UID:2215-1743768000-1743958800@haapamaenmuseoveturiyhdistys.fi
SUMMARY:HMVY mukana Kotimaan matkailumessuilla Tampereella 4.-6.4.2025
DESCRIPTION:Haapamäen museoveturiyhdistys osallistuu yhdessä Keuruun matkailun kanssa Kotimaan matkailumessuille Tampereen Messukeskuksessa 4.-6.4.2025. Sijaitsemme osastolla A 411. \nTervetuloa tapaamaan yhdistyksen edustajia ja liittymään jäseneksi mikäli et ole jo liittynyt. \nMessut ovat kävijöille avoinna \n\nPerjantaina 4.4.2025 klo 12–17\nLauantaina 5.4.2025 klo 10–17\nSunnuntaina 6.4.2025 klo 10–17\n\nKatso lisätiedot messujen kotisivuilta https://www.kotimaanmatkailumessut.fi
URL:https://haapamaenmuseoveturiyhdistys.fi/tapahtuma/kotimaan-matkailumessut-2025/
LOCATION:Tampereen Messukeskus\, Ilmailunkatu 20\, Tampere\, 33900\, Finland
END:VEVENT
END:VCALENDAR